BEGIN:VCALENDAR
VERSION:2.0
PRODID:-//wp-events-plugin.com//7.2.3.1//EN
TZID:America/Los_Angeles
X-WR-TIMEZONE:America/Los_Angeles
BEGIN:VEVENT
UID:937@ocalanon.org
DTSTART;TZID=America/Los_Angeles:20260518T183000
DTEND;TZID=America/Los_Angeles:20260518T203000
DTSTAMP:20260303T234526Z
URL:https://www.ocalanon.org/events/spring-into-recovery/
SUMMARY:Spring into Recovery
DESCRIPTION:Sober Sons and Daughters Share Their Journey\n\n6:30 - Eat &amp
 \; Greet\n7:00 - Meeting\n\nIn-person or Online!\n\nZoom ID: 846 5691 8766
 \nPasscode: CtoC\n\nFor more information contact Sherry @ 714-892-0320
CATEGORIES:Meeting
LOCATION:Rush Park\, 3021 Blume Dr\, Rossmoor\, CA\, 90720\, United States
GEO:33.783379;-118.081044
X-APPLE-STRUCTURED-LOCATION;VALUE=URI;X-ADDRESS=3021 Blume Dr\, Rossmoor\, 
 CA\, 90720\, United States;X-APPLE-RADIUS=100;X-TITLE=Rush Park:geo:33.783
 379,-118.081044
END:VEVENT
BEGIN:VTIMEZONE
TZID:America/Los_Angeles
X-LIC-LOCATION:America/Los_Angeles
BEGIN:DAYLIGHT
DTSTART:20260308T030000
TZOFFSETFROM:-0800
TZOFFSETTO:-0700
TZNAME:PDT
END:DAYLIGHT
END:VTIMEZONE
END:VCALENDAR