BEGIN:VCALENDAR
VERSION:2.0
PRODID:-//wp-events-plugin.com//7.2.3.1//EN
TZID:America/Los_Angeles
X-WR-TIMEZONE:America/Los_Angeles
BEGIN:VEVENT
UID:938@ocalanon.org
DTSTART;TZID=America/Los_Angeles:20260430T190000
DTEND;TZID=America/Los_Angeles:20260430T203000
DTSTAMP:20260310T153935Z
URL:https://www.ocalanon.org/events/speaker-meeting-with-aa-participation-
 3/
SUMMARY:Speaker Meeting with AA Participation
DESCRIPTION:Garden Grove Men’s Stag &amp\; Women’s Serenity Seekers AFG
 ’s Joint Speaker Meeting with AA Participation\nEveryone is Welcome!\nFe
 atured Speakers:\nEvelyn W.\, Buena Park (Al-Anon)\nDarryl W.\, Buena Park
  (AA)\nDownload the flyer for more information.
CATEGORIES:Meeting
LOCATION:First Presbyterian Church\, 11832 Euclid St\, Garden Grove\, CA\, 
 92804\, United States
GEO:33.7908451;-117.9402887
X-APPLE-STRUCTURED-LOCATION;VALUE=URI;X-ADDRESS=11832 Euclid St\, Garden Gr
 ove\, CA\, 92804\, United States;X-APPLE-RADIUS=100;X-TITLE=First Presbyte
 rian Church:geo:33.7908451,-117.9402887
END:VEVENT
BEGIN:VTIMEZONE
TZID:America/Los_Angeles
X-LIC-LOCATION:America/Los_Angeles
BEGIN:DAYLIGHT
DTSTART:20260308T030000
TZOFFSETFROM:-0800
TZOFFSETTO:-0700
TZNAME:PDT
END:DAYLIGHT
END:VTIMEZONE
END:VCALENDAR