BEGIN:VCALENDAR
VERSION:2.0
PRODID:-//wp-events-plugin.com//7.2.3.1//EN
TZID:America/Los_Angeles
X-WR-TIMEZONE:America/Los_Angeles
BEGIN:VEVENT
UID:941@ocalanon.org
DTSTART;TZID=America/Los_Angeles:20260429T193000
DTEND;TZID=America/Los_Angeles:20260429T210000
DTSTAMP:20260407T222625Z
URL:https://www.ocalanon.org/events/speaker-meeting-9/
SUMMARY:Speaker Meeting
DESCRIPTION:Featured Speakers: Lisa N &amp\; Maddy D
CATEGORIES:Meeting
LOCATION:First Baptist Church of Yorba Linda\, 18372 Lemon Dr\, Yorba Linda
 \, CA\, 92886\, United States
GEO:33.89128;-117.81321789999998
X-APPLE-STRUCTURED-LOCATION;VALUE=URI;X-ADDRESS=18372 Lemon Dr\, Yorba Lind
 a\, CA\, 92886\, United States;X-APPLE-RADIUS=100;X-TITLE=First Baptist Ch
 urch of Yorba Linda:geo:33.89128,-117.81321789999998
END:VEVENT
BEGIN:VTIMEZONE
TZID:America/Los_Angeles
X-LIC-LOCATION:America/Los_Angeles
BEGIN:DAYLIGHT
DTSTART:20260308T030000
TZOFFSETFROM:-0800
TZOFFSETTO:-0700
TZNAME:PDT
END:DAYLIGHT
END:VTIMEZONE
END:VCALENDAR