BEGIN:VCALENDAR
VERSION:2.0
PRODID:-//wp-events-plugin.com//7.2.3.1//EN
TZID:America/Los_Angeles
X-WR-TIMEZONE:America/Los_Angeles
BEGIN:VEVENT
UID:940@ocalanon.org
DTSTART;TZID=America/Los_Angeles:20260530T100000
DTEND;TZID=America/Los_Angeles:20260530T113000
DTSTAMP:20260406T172348Z
URL:https://www.ocalanon.org/events/speaker-meeting-8/
SUMMARY:Speaker Meeting
DESCRIPTION:Featured Speaker:\nEmelinda M.\, Palm Desert\n\nAll are Welcome
 !\n\nMeeting is located in the Basement\n\nDownload the flyer and take it 
 to your meeting.\n\nContact Vicki V at 714-349-2122 with questions
CATEGORIES:Meeting
LOCATION:St. Andrew's Church\, 600 St. Andrew’s Road\, Newport Beach\, CA
 \, 92663\, United States
GEO:33.6214231;-117.913186
X-APPLE-STRUCTURED-LOCATION;VALUE=URI;X-ADDRESS=600 St. Andrew’s Road\, N
 ewport Beach\, CA\, 92663\, United States;X-APPLE-RADIUS=100;X-TITLE=St. A
 ndrew's Church:geo:33.6214231,-117.913186
END:VEVENT
BEGIN:VTIMEZONE
TZID:America/Los_Angeles
X-LIC-LOCATION:America/Los_Angeles
BEGIN:DAYLIGHT
DTSTART:20260308T030000
TZOFFSETFROM:-0800
TZOFFSETTO:-0700
TZNAME:PDT
END:DAYLIGHT
END:VTIMEZONE
END:VCALENDAR