BEGIN:VCALENDAR
VERSION:2.0
PRODID:-//wp-events-plugin.com//7.2.3.1//EN
TZID:America/Los_Angeles
X-WR-TIMEZONE:America/Los_Angeles
BEGIN:VEVENT
UID:943@ocalanon.org
DTSTART;TZID=America/Los_Angeles:20260530T190000
DTEND;TZID=America/Los_Angeles:20260530T203000
DTSTAMP:20260407T223618Z
URL:https://www.ocalanon.org/events/speaker-meeting-11/
SUMMARY:Speaker Meeting
DESCRIPTION:Featured Speaker: Micheila L.
CATEGORIES:Meeting
LOCATION:First United Methodist Church\, 161 S. Orange St\, Orange\, Califo
 rnia\, 92866\, United States
GEO:33.786904;-117.851748
X-APPLE-STRUCTURED-LOCATION;VALUE=URI;X-ADDRESS=161 S. Orange St\, Orange\,
  California\, 92866\, United States;X-APPLE-RADIUS=100;X-TITLE=First Unite
 d Methodist Church:geo:33.786904,-117.851748
END:VEVENT
BEGIN:VTIMEZONE
TZID:America/Los_Angeles
X-LIC-LOCATION:America/Los_Angeles
BEGIN:DAYLIGHT
DTSTART:20260308T030000
TZOFFSETFROM:-0800
TZOFFSETTO:-0700
TZNAME:PDT
END:DAYLIGHT
END:VTIMEZONE
END:VCALENDAR