BEGIN:VCALENDAR
VERSION:2.0
PRODID:-//wp-events-plugin.com//7.2.3.1//EN
TZID:America/Los_Angeles
X-WR-TIMEZONE:America/Los_Angeles
BEGIN:VEVENT
UID:942@ocalanon.org
DTSTART;TZID=America/Los_Angeles:20260506T113000
DTEND;TZID=America/Los_Angeles:20260506T130000
DTSTAMP:20260407T223200Z
URL:https://www.ocalanon.org/events/speaker-meeting-10/
SUMMARY:Speaker Meeting
DESCRIPTION:Featured Speaker: Jessica
CATEGORIES:Meeting
LOCATION:St Andrews Church\, 600 St. Andrews Road\, Newport Beach\, CA\, Un
 ited States
GEO:33.6212265;-117.9133847
X-APPLE-STRUCTURED-LOCATION;VALUE=URI;X-ADDRESS=600 St. Andrews Road\, Newp
 ort Beach\, CA\, United States;X-APPLE-RADIUS=100;X-TITLE=St Andrews Churc
 h:geo:33.6212265,-117.9133847
END:VEVENT
BEGIN:VTIMEZONE
TZID:America/Los_Angeles
X-LIC-LOCATION:America/Los_Angeles
BEGIN:DAYLIGHT
DTSTART:20260308T030000
TZOFFSETFROM:-0800
TZOFFSETTO:-0700
TZNAME:PDT
END:DAYLIGHT
END:VTIMEZONE
END:VCALENDAR