BEGIN:VCALENDAR
VERSION:2.0
PRODID:-//wp-events-plugin.com//7.2.3.1//EN
TZID:America/Los_Angeles
X-WR-TIMEZONE:America/Los_Angeles
BEGIN:VEVENT
UID:946@ocalanon.org
DTSTART;TZID=America/Los_Angeles:20260520T190000
DTEND;TZID=America/Los_Angeles:20260520T203000
DTSTAMP:20260418T162330Z
URL:https://www.ocalanon.org/events/oc-al-anon-service-board-meeting-6/
SUMMARY:OC Al-Anon Service Board Meeting
DESCRIPTION:All members of OC Al-Anon are welcome\; only elected Service Bo
 ard Members have voice &amp\; vote\, as stated in the OC AIS Group Manual 
 &amp\; By-Laws.\n\nDocuments to Review / Discuss:\n\n 	Agenda\n 	Draft Min
 utes - January 21\, 2026\n 	Financials\n
CATEGORIES:Meeting
LOCATION:Trinity Episcopal Church\, 2400 N. Canal St.\, Orange\, Ca\, 92865
 \, United States
GEO:33.8289386;-117.84105699999998
X-APPLE-STRUCTURED-LOCATION;VALUE=URI;X-ADDRESS=2400 N. Canal St.\, Orange\
 , Ca\, 92865\, United States;X-APPLE-RADIUS=100;X-TITLE=Trinity Episcopal 
 Church:geo:33.8289386,-117.84105699999998
END:VEVENT
BEGIN:VTIMEZONE
TZID:America/Los_Angeles
X-LIC-LOCATION:America/Los_Angeles
BEGIN:DAYLIGHT
DTSTART:20260308T030000
TZOFFSETFROM:-0800
TZOFFSETTO:-0700
TZNAME:PDT
END:DAYLIGHT
END:VTIMEZONE
END:VCALENDAR