BEGIN:VCALENDAR
VERSION:2.0
PRODID:-//wp-events-plugin.com//7.2.3.1//EN
TZID:America/Los_Angeles
X-WR-TIMEZONE:America/Los_Angeles
BEGIN:VEVENT
UID:945@ocalanon.org
DTSTART;TZID=America/Los_Angeles:20260617T193000
DTEND;TZID=America/Los_Angeles:20260617T210000
DTSTAMP:20260418T162027Z
URL:https://www.ocalanon.org/events/intergroup-meeting-5/
SUMMARY:Intergroup Meeting
DESCRIPTION:Documents to Review / Discuss:\n\n 	Agenda\n 	Draft Minutes - A
 pril 15\, 2026\n 	Treasurer's Report &amp\; Financials\n 	Zoom Meeting Na
 ming Guide\n\n7:00 PM - New Information Service Representative Orientation
 \; Download Presentation\n7:30 PM - Intergroup Meeting\n\nAttend in person
  or online. It's a hybrid meeting!\n\nMeeting via Zoom:\n\nMeeting ID: 890
  1915 6449\nPasscode: 045708
CATEGORIES:Meeting
LOCATION:Trinity Episcopal Church\, 2400 N. Canal St.\, Orange\, Ca\, 92865
 \, United States
GEO:33.8289386;-117.84105699999998
X-APPLE-STRUCTURED-LOCATION;VALUE=URI;X-ADDRESS=2400 N. Canal St.\, Orange\
 , Ca\, 92865\, United States;X-APPLE-RADIUS=100;X-TITLE=Trinity Episcopal 
 Church:geo:33.8289386,-117.84105699999998
END:VEVENT
BEGIN:VTIMEZONE
TZID:America/Los_Angeles
X-LIC-LOCATION:America/Los_Angeles
BEGIN:DAYLIGHT
DTSTART:20260308T030000
TZOFFSETFROM:-0800
TZOFFSETTO:-0700
TZNAME:PDT
END:DAYLIGHT
END:VTIMEZONE
END:VCALENDAR