BEGIN:VCALENDAR
VERSION:2.0
PRODID:-//wp-events-plugin.com//7.2.3.1//EN
TZID:America/Los_Angeles
X-WR-TIMEZONE:America/Los_Angeles
BEGIN:VEVENT
UID:939@ocalanon.org
DTSTART;TZID=America/Los_Angeles:20260725T180000
DTEND;TZID=America/Los_Angeles:20260725T190000
DTSTAMP:20260324T190427Z
URL:https://www.ocalanon.org/events/fundraising-event-for-the-2027-afg-con
 vention/
SUMMARY:Fundraising Event for the 2027 AFG Convention
DESCRIPTION:Save the Date\n\nA Fundraising Event Benefiting the 50th Annual
  Southern California Al-Anon Family Groups Convention.\n\nWith America's P
 ermier Acapella Doo Wop Group\n\nDownload the flyer.
CATEGORIES:Meeting
END:VEVENT
BEGIN:VTIMEZONE
TZID:America/Los_Angeles
X-LIC-LOCATION:America/Los_Angeles
BEGIN:DAYLIGHT
DTSTART:20260308T030000
TZOFFSETFROM:-0800
TZOFFSETTO:-0700
TZNAME:PDT
END:DAYLIGHT
END:VTIMEZONE
END:VCALENDAR