BEGIN:VCALENDAR
VERSION:2.0
PRODID:-//wp-events-plugin.com//7.2.3.1//EN
TZID:America/Los_Angeles
X-WR-TIMEZONE:America/Los_Angeles
BEGIN:VEVENT
UID:944@ocalanon.org
DTSTART;TZID=America/Los_Angeles:20260627T090000
DTEND;TZID=America/Los_Angeles:20260627T163000
DTSTAMP:20260411T184810Z
URL:https://www.ocalanon.org/events/district-33-alathon/
SUMMARY:Surrender to Soar Alathon
DESCRIPTION:Sponsored by District 33\n\nIt's a Potluck!  It's also a Fundr
 aiser\; $5 Donation via Venmo\n\nThis is a Hybrid event! Attend in person 
 or via Zoom!\n\nDownload the flyer for more information
CATEGORIES:Meeting
LOCATION:Diamond Bar United Church of Christ\, 2335 S Diamond Bar Blvd\, Di
 amond Bar\, CA\, 91765\, United States
GEO:33.98278;-117.830437
X-APPLE-STRUCTURED-LOCATION;VALUE=URI;X-ADDRESS=2335 S Diamond Bar Blvd\, D
 iamond Bar\, CA\, 91765\, United States;X-APPLE-RADIUS=100;X-TITLE=Diamond
  Bar United Church of Christ:geo:33.98278,-117.830437
END:VEVENT
BEGIN:VTIMEZONE
TZID:America/Los_Angeles
X-LIC-LOCATION:America/Los_Angeles
BEGIN:DAYLIGHT
DTSTART:20260308T030000
TZOFFSETFROM:-0800
TZOFFSETTO:-0700
TZNAME:PDT
END:DAYLIGHT
END:VTIMEZONE
END:VCALENDAR