BEGIN:VCALENDAR
VERSION:2.0
PRODID:-//wp-events-plugin.com//7.2.3.1//EN
TZID:America/Los_Angeles
X-WR-TIMEZONE:America/Los_Angeles
BEGIN:VEVENT
UID:935@ocalanon.org
DTSTART;TZID=America/Los_Angeles:20260519T110000
DTEND;TZID=America/Los_Angeles:20260519T133000
DTSTAMP:20260303T233533Z
URL:https://www.ocalanon.org/events/50th-anniversary-celebration-meeting-p
 otluck/
SUMMARY:50th Anniversary Celebration Meeting & Potluck
DESCRIPTION:Featured Speakers:\n\nJoe S.\, La Habra (AA - 16 years)\nSugar 
 Mike\, Fullerton (Al-Anon 31 years)\n\n11:00 AM - Potluck\n12:00 PM - Spea
 kers\n\nFor more information\, call or text Theresa M at 714-608-3401
CATEGORIES:Meeting
LOCATION:Good Shepard Lutheran Church\, 7082 Crescent Ave\, Buena Park\, CA
 \, 90620\, United States
GEO:33.83846550000001;-118.00971700000002
X-APPLE-STRUCTURED-LOCATION;VALUE=URI;X-ADDRESS=7082 Crescent Ave\, Buena P
 ark\, CA\, 90620\, United States;X-APPLE-RADIUS=100;X-TITLE=Good Shepard L
 utheran Church:geo:33.83846550000001,-118.00971700000002
END:VEVENT
BEGIN:VTIMEZONE
TZID:America/Los_Angeles
X-LIC-LOCATION:America/Los_Angeles
BEGIN:DAYLIGHT
DTSTART:20260308T030000
TZOFFSETFROM:-0800
TZOFFSETTO:-0700
TZNAME:PDT
END:DAYLIGHT
END:VTIMEZONE
END:VCALENDAR